BEGIN:VCALENDAR
VERSION:2.0
PRODID:-//hacksw/handcal//NONSGML v1.0//EN
BEGIN:VEVENT
SUMMARY:Finale de District 3 bandes R1
UID:986b6dde-3959-4d7d-ba1e-5b1c77e49aea
DTSTART:20260411T070000Z
DTEND:20260412T150000Z
LOCATION:Localisation   
CATEGORIES:Sportif
STATUS:
URL;VALUE=URI:https://academiebillarddepau.sportsregions.fr/evenements/2026/04/11/finale-de-district-3-bandes-r1-2439816
END:VEVENT
END:VCALENDAR
